BEGIN:VCALENDAR
VERSION:2.0
PRODID:-//Conciencia de Salud - ECPv5.1.3//NONSGML v1.0//EN
CALSCALE:GREGORIAN
METHOD:PUBLISH
X-WR-CALNAME:Conciencia de Salud
X-ORIGINAL-URL:https://www.concienciadesalud.com
X-WR-CALDESC:Eventos para Conciencia de Salud
BEGIN:VTIMEZONE
TZID:America/Mexico_City
BEGIN:STANDARD
TZOFFSETFROM:-0600
TZOFFSETTO:-0600
TZNAME:CST
DTSTART:20250101T000000
END:STANDARD
END:VTIMEZONE
BEGIN:VEVENT
DTSTART;TZID=America/Mexico_City:20250301T100000
DTEND;TZID=America/Mexico_City:20250301T180000
DTSTAMP:20260424T122126
CREATED:20250128T005319Z
LAST-MODIFIED:20250130T134644Z
UID:14573-1740823200-1740852000@www.concienciadesalud.com
SUMMARY:Taller Si lo creo\, LO CREO / Guadalajara
DESCRIPTION:Este taller te ayudará a comprender cómo es que la mente es la que genera las ideas\, todos llegamos con el chip en\nblanco y es nuestra madre primero\, padre\, maestros y hermanos\, los que van grabando ideas en él\, estas se llaman creencias.\nUtiliza el poder de los pensamientos a tu favor para atraer y manifestar la realidad que quieres vivir.\nSi lo creas de pensamiento\, lo creas en experiencia. \n \n  \nINVERSIÓN\n$2\,200 MXN  \nHotel Holiday Inn Guadalajara\nAv. Adolfo López Mateos Sur 2500\, Cd del Sol\, 45050 Zapopan\, Jal.\, México \nINFORMES / INSCRIPCIONES\ncomunicarse con Adriana Cecilia González\nal 333 – 945 – 2073 \n
URL:https://www.concienciadesalud.com/calendario/taller-si-lo-creo-lo-creo-guadalajara/
LOCATION:Hotel Holiday Inn Guadalajara\, Av. Adolfo López Mateos Sur 2500\, Cd del Sol\, Zapopan\, Jalisco\, 45050\, México
ATTACH;FMTTYPE=image/jpeg:https://www.concienciadesalud.com/wp-content/uploads/2025/01/ev_creo_GDL_2025.jpg
END:VEVENT
END:VCALENDAR