BEGIN:VCALENDAR
VERSION:2.0
PRODID:-//Conciencia de Salud - ECPv5.1.3//NONSGML v1.0//EN
CALSCALE:GREGORIAN
METHOD:PUBLISH
X-WR-CALNAME:Conciencia de Salud
X-ORIGINAL-URL:https://www.concienciadesalud.com
X-WR-CALDESC:Eventos para Conciencia de Salud
BEGIN:VTIMEZONE
TZID:America/Mexico_City
BEGIN:STANDARD
TZOFFSETFROM:-0600
TZOFFSETTO:-0600
TZNAME:CST
DTSTART:20250101T000000
END:STANDARD
END:VTIMEZONE
BEGIN:VEVENT
DTSTART;TZID=America/Mexico_City:20250302T110000
DTEND;TZID=America/Mexico_City:20250302T133000
DTSTAMP:20260424T105954
CREATED:20250128T031124Z
LAST-MODIFIED:20250130T210225Z
UID:14590-1740913200-1740922200@www.concienciadesalud.com
SUMMARY:Meditacion en Movimiento / Guadalajara
DESCRIPTION:En esta meditación en movimiento lograrás conectar con el aquí y ahora mientras realizas una determinada actividad.\nDurante esta meditación fijarás tu atención en lo que sucede en tu cuerpo permitiéndote ser más consciente de tí mism@ y de tu entorno. \n02 de marzo \nde 11 am a 1:30 pm\nHotel Holiday Inn Guadalajara\nAv. Adolfo López Mateos Sur 2500\, Cd del Sol\, 45050 Zapopan\, Jal.\, México  \nINVERSIÓN\n$800 presencial \n\nhttp://www.concienciadesalud.com/wp-content/uploads/2024/12/mediatcion_movimiento_1.mp4\n  \nINFORMES / INSCRIPCIONES\ncomunicarse con Adriana Cecilia González\nal 333 – 945 – 2073 \n
URL:https://www.concienciadesalud.com/calendario/meditacion-en-movimiento-guadalajara/
LOCATION:Hotel Holiday Inn Guadalajara\, Av. Adolfo López Mateos Sur 2500\, Cd del Sol\, Zapopan\, Jalisco\, 45050\, México
ATTACH;FMTTYPE=image/jpeg:https://www.concienciadesalud.com/wp-content/uploads/2025/01/ev_med_GDL_25B.jpg
END:VEVENT
END:VCALENDAR