BEGIN:VCALENDAR
VERSION:2.0
PRODID:-//Conciencia de Salud - ECPv5.1.3//NONSGML v1.0//EN
CALSCALE:GREGORIAN
METHOD:PUBLISH
X-WR-CALNAME:Conciencia de Salud
X-ORIGINAL-URL:https://www.concienciadesalud.com
X-WR-CALDESC:Eventos para Conciencia de Salud
BEGIN:VTIMEZONE
TZID:America/Mexico_City
BEGIN:STANDARD
TZOFFSETFROM:-0600
TZOFFSETTO:-0600
TZNAME:CST
DTSTART:20250101T000000
END:STANDARD
END:VTIMEZONE
BEGIN:VEVENT
DTSTART;VALUE=DATE:20250405
DTEND;VALUE=DATE:20250406
DTSTAMP:20260423T100832
CREATED:20240219T165310Z
LAST-MODIFIED:20250311T001444Z
UID:13139-1743811200-1743897599@www.concienciadesalud.com
SUMMARY:Cásate contigo / Ceremonia Presencial
DESCRIPTION:La felicidad inicia amándose a un@ mism@. \nSi ya tomaste el curso prematrimonial de Cásate Contigo\, haz que éste es el inicio de una nueva historia\, donde el amor nace desde tu interior. \nCelebra y comparte este momento especial. \n\nhttp://www.concienciadesalud.com/wp-content/uploads/2024/02/casate_ceremonia.mp4\n  \nAsiste a la ceremonia con tu anillo y vestimenta color blanco. \n \nLas Flores 8\, San Nicolás Totolapan\, Magdalena Contreras\, 10900\nCiudad de México\, CDMX\, México \nINFORMES \nWhatsapp: 5569862623\n Whatsapp link:  https://wa.link/d1gv4t \n  \n
URL:https://www.concienciadesalud.com/calendario/casate-contigo-ceremonia/
LOCATION:Rancho La Soledad\, Las Flores 8\, San Nicolás Totolapan\, La Magdalena Contreras\, CDMX\, 10900\, México
ATTACH;FMTTYPE=image/jpeg:https://www.concienciadesalud.com/wp-content/uploads/2024/02/ev_ceremonia_05abril_25.jpg
END:VEVENT
END:VCALENDAR