BEGIN:VCALENDAR
VERSION:2.0
PRODID:-//Conciencia de Salud - ECPv5.1.3//NONSGML v1.0//EN
CALSCALE:GREGORIAN
METHOD:PUBLISH
X-WR-CALNAME:Conciencia de Salud
X-ORIGINAL-URL:https://www.concienciadesalud.com
X-WR-CALDESC:Eventos para Conciencia de Salud
BEGIN:VTIMEZONE
TZID:America/Mexico_City
BEGIN:DAYLIGHT
TZOFFSETFROM:-0600
TZOFFSETTO:-0500
TZNAME:CDT
DTSTART:20220403T080000
END:DAYLIGHT
BEGIN:STANDARD
TZOFFSETFROM:-0500
TZOFFSETTO:-0600
TZNAME:CST
DTSTART:20221030T070000
END:STANDARD
END:VTIMEZONE
BEGIN:VEVENT
DTSTART;TZID=America/Mexico_City:20220320T100000
DTEND;TZID=America/Mexico_City:20220320T180000
DTSTAMP:20260423T102905
CREATED:20220306T054339Z
LAST-MODIFIED:20220306T054339Z
UID:11585-1647770400-1647799200@www.concienciadesalud.com
SUMMARY:El Kybalion / California\, USA
DESCRIPTION:El Kybalion es una guía práctica para entender el funcionamiento de las leyes cósmicas y cómo nos afectan\, para aprender a manejarlas correctamente y crear la vida que siempre hemos soñado. \nLa comprensión y la aplicación práctica en nuestra vida de las siete leyes que rigen el Universo es básico para nuestro desarrollo interior y nuestro crecimiento espiritual\, quizás conocías alguno de los principios\, pero no cómo te afectaba y cómo podías usarlos para tu beneficio. Con este taller te llevarás tips que podrás aplicar fácilmente y ver grandes resultados inmediatos. Verás lo fácil que es\, una vez que lo entiendes y lo llevas a cabo en tu vida. \n  \nInversión:\n$150 dólares \nInformes con: \nGabriela Guerrero\nTel: (951) 200-1913 \n
URL:https://www.concienciadesalud.com/calendario/el-kybalion-california-usa/
LOCATION:Hotel Hilton Pasadena\, 168 S Los Robles Ave\, Pasadena\, California\, 91101
ATTACH;FMTTYPE=image/jpeg:https://www.concienciadesalud.com/wp-content/uploads/2022/03/ev_kybalion_LA.jpg
END:VEVENT
END:VCALENDAR