BEGIN:VCALENDAR
VERSION:2.0
PRODID:-//Apple Inc.//macOS 12.3.1//EN
CALSCALE:GREGORIAN
BEGIN:VTIMEZONE
TZID:America/Mexico_City
BEGIN:DAYLIGHT
TZOFFSETFROM:-0600
RRULE:FREQ=YEARLY;BYMONTH=4;BYDAY=1SU
DTSTART:20020407T020000
TZNAME:GMT-5
TZOFFSETTO:-0500
END:DAYLIGHT
BEGIN:STANDARD
TZOFFSETFROM:-0500
RRULE:FREQ=YEARLY;BYMONTH=10;BYDAY=-1SU
DTSTART:20021027T020000
TZNAME:GMT-6
TZOFFSETTO:-0600
END:STANDARD
END:VTIMEZONE
BEGIN:VEVENT
TRANSP:OPAQUE
DTEND;TZID=America/Mexico_City:20220602T210000
UID:D0222B3F-87E8-417D-8BE3-430420DE80CD
DTSTAMP:20220530T161830Z
LOCATION:https://concienciadesalud.com/system/user/descripcion/9
DESCRIPTION:En esta master class totalmente gratis recibirás información
  valiosísima y súper poderosa para manifestar la salud perfecta.  \n\nHa
 blaremos de por qué te enfermas de lo que te enfermas\, conocerás qué pe
 nsamiento equivocado hay detrás\, sabrás qué mensaje te quiere dar el sí
 ntoma y verás que tu cuerpo no se enferma\, tu cuerpo te informa. 
URL;VALUE=URI:https://concienciadesalud.com/system/user/descripcion/9
SEQUENCE:1
SUMMARY:Master Class tu salud es mental - P2
LAST-MODIFIED:20220602T210757Z
DTSTART;TZID=America/Mexico_City:20220602T200000
CREATED:20220530T161730Z
X-APPLE-TRAVEL-ADVISORY-BEHAVIOR:AUTOMATIC
END:VEVENT
END:VCALENDAR
